BEGIN:VCALENDAR
VERSION:2.0
PRODID:-//Center for International Dance - ECPv6.15.20//NONSGML v1.0//EN
CALSCALE:GREGORIAN
METHOD:PUBLISH
X-WR-CALNAME:Center for International Dance
X-ORIGINAL-URL:https://centerforinternationaldance.org
X-WR-CALDESC:Events for Center for International Dance
REFRESH-INTERVAL;VALUE=DURATION:PT1H
X-Robots-Tag:noindex
X-PUBLISHED-TTL:PT1H
BEGIN:VTIMEZONE
TZID:UTC
BEGIN:STANDARD
TZOFFSETFROM:+0000
TZOFFSETTO:+0000
TZNAME:UTC
DTSTART:20220101T000000
END:STANDARD
END:VTIMEZONE
BEGIN:VEVENT
DTSTART;VALUE=DATE:20231202
DTEND;VALUE=DATE:20231203
DTSTAMP:20260424T073118
CREATED:20240201T101925Z
LAST-MODIFIED:20260401T190333Z
UID:15291-1701475200-1701561599@centerforinternationaldance.org
SUMMARY:A Very Merry Lu'au
DESCRIPTION:
URL:https://centerforinternationaldance.org/event/a-very-merry-luau-2023/
CATEGORIES:Past
ATTACH;FMTTYPE=image/jpeg:https://centerforinternationaldance.org/wp-content/uploads/2024/02/Event-Luau-2.jpg
END:VEVENT
END:VCALENDAR