BEGIN:VCALENDAR
VERSION:2.0
PRODID:-//Center for International Dance - ECPv6.15.20//NONSGML v1.0//EN
CALSCALE:GREGORIAN
METHOD:PUBLISH
X-WR-CALNAME:Center for International Dance
X-ORIGINAL-URL:https://centerforinternationaldance.org
X-WR-CALDESC:Events for Center for International Dance
REFRESH-INTERVAL;VALUE=DURATION:PT1H
X-Robots-Tag:noindex
X-PUBLISHED-TTL:PT1H
BEGIN:VTIMEZONE
TZID:America/Los_Angeles
BEGIN:DAYLIGHT
TZOFFSETFROM:-0800
TZOFFSETTO:-0700
TZNAME:PDT
DTSTART:20250309T100000
END:DAYLIGHT
BEGIN:STANDARD
TZOFFSETFROM:-0700
TZOFFSETTO:-0800
TZNAME:PST
DTSTART:20251102T090000
END:STANDARD
BEGIN:DAYLIGHT
TZOFFSETFROM:-0800
TZOFFSETTO:-0700
TZNAME:PDT
DTSTART:20260308T100000
END:DAYLIGHT
BEGIN:STANDARD
TZOFFSETFROM:-0700
TZOFFSETTO:-0800
TZNAME:PST
DTSTART:20261101T090000
END:STANDARD
BEGIN:DAYLIGHT
TZOFFSETFROM:-0800
TZOFFSETTO:-0700
TZNAME:PDT
DTSTART:20270314T100000
END:DAYLIGHT
BEGIN:STANDARD
TZOFFSETFROM:-0700
TZOFFSETTO:-0800
TZNAME:PST
DTSTART:20271107T090000
END:STANDARD
END:VTIMEZONE
BEGIN:VEVENT
DTSTART;TZID=America/Los_Angeles:20260503T090000
DTEND;TZID=America/Los_Angeles:20260503T100000
DTSTAMP:20260423T105156
CREATED:20260423T092601Z
LAST-MODIFIED:20260423T092601Z
UID:23404-1777798800-1777802400@centerforinternationaldance.org
SUMMARY:Bharatanatyam
DESCRIPTION:Beginner/Intermediate\nInstructor: Naina Shastri
URL:https://centerforinternationaldance.org/event/bharatanatyam/
CATEGORIES:Classes
END:VEVENT
END:VCALENDAR