BEGIN:VCALENDAR
VERSION:2.0
PRODID:-//Center for International Dance - ECPv6.15.20//NONSGML v1.0//EN
CALSCALE:GREGORIAN
METHOD:PUBLISH
X-WR-CALNAME:Center for International Dance
X-ORIGINAL-URL:https://centerforinternationaldance.org
X-WR-CALDESC:Events for Center for International Dance
REFRESH-INTERVAL;VALUE=DURATION:PT1H
X-Robots-Tag:noindex
X-PUBLISHED-TTL:PT1H
BEGIN:VTIMEZONE
TZID:America/Los_Angeles
BEGIN:DAYLIGHT
TZOFFSETFROM:-0800
TZOFFSETTO:-0700
TZNAME:PDT
DTSTART:20250309T100000
END:DAYLIGHT
BEGIN:STANDARD
TZOFFSETFROM:-0700
TZOFFSETTO:-0800
TZNAME:PST
DTSTART:20251102T090000
END:STANDARD
BEGIN:DAYLIGHT
TZOFFSETFROM:-0800
TZOFFSETTO:-0700
TZNAME:PDT
DTSTART:20260308T100000
END:DAYLIGHT
BEGIN:STANDARD
TZOFFSETFROM:-0700
TZOFFSETTO:-0800
TZNAME:PST
DTSTART:20261101T090000
END:STANDARD
BEGIN:DAYLIGHT
TZOFFSETFROM:-0800
TZOFFSETTO:-0700
TZNAME:PDT
DTSTART:20270314T100000
END:DAYLIGHT
BEGIN:STANDARD
TZOFFSETFROM:-0700
TZOFFSETTO:-0800
TZNAME:PST
DTSTART:20271107T090000
END:STANDARD
END:VTIMEZONE
BEGIN:VEVENT
DTSTART;TZID=America/Los_Angeles:20260214T090000
DTEND;TZID=America/Los_Angeles:20260215T163000
DTSTAMP:20260423T092803
CREATED:20251215T180325Z
LAST-MODIFIED:20260226T230247Z
UID:23039-1771059600-1771173000@centerforinternationaldance.org
SUMMARY:Kāpili 2026
DESCRIPTION:The Kāpili Polynesian Dance and Music Workshops are a community celebration! Kapili is structured to encourage the student to go deeply into their chosen topic through directed study with a single master teacher for a full weekend of instruction. We are honored and excited to bring together a community of culture-bearers who will guide you\, the student\, on a journey of artistic discovery. 								\n				\n		\n				\n				\n									\n					\n						\n									Register\n					\n					\n				\n								\n				\n				\n				\n									\n					\n						\n									LEARN MORE
URL:https://centerforinternationaldance.org/event/kapili-2026/
CATEGORIES:Past,Workshops
ATTACH;FMTTYPE=image/jpeg:https://centerforinternationaldance.org/wp-content/uploads/2025/12/kapili-2026-logo-for-site-crop2.jpg
END:VEVENT
END:VCALENDAR