BEGIN:VCALENDAR
VERSION:2.0
PRODID:-//Center for International Dance - ECPv6.15.20//NONSGML v1.0//EN
CALSCALE:GREGORIAN
METHOD:PUBLISH
X-WR-CALNAME:Center for International Dance
X-ORIGINAL-URL:https://centerforinternationaldance.org
X-WR-CALDESC:Events for Center for International Dance
REFRESH-INTERVAL;VALUE=DURATION:PT1H
X-Robots-Tag:noindex
X-PUBLISHED-TTL:PT1H
BEGIN:VTIMEZONE
TZID:UTC
BEGIN:STANDARD
TZOFFSETFROM:+0000
TZOFFSETTO:+0000
TZNAME:UTC
DTSTART:20220101T000000
END:STANDARD
END:VTIMEZONE
BEGIN:VEVENT
DTSTART;TZID=UTC:20230903T190000
DTEND;TZID=UTC:20230903T210000
DTSTAMP:20260424T103808
CREATED:20240201T102218Z
LAST-MODIFIED:20260401T190342Z
UID:15295-1693767600-1693774800@centerforinternationaldance.org
SUMMARY:Kōkua Maui Concert
DESCRIPTION:Kōkua Maui Concert\nFaith Ako\nSteven Espaniola\nMahealani Uchiyama\n\nHosted by Patrick Landeza\n \nLocation:\n2020 Addison St Berkeley CA \n*All proceed to Hawaii Community Foundation 
URL:https://centerforinternationaldance.org/event/kokua-maui-concert-2023/
CATEGORIES:Past
ATTACH;FMTTYPE=image/jpeg:https://centerforinternationaldance.org/wp-content/uploads/2024/02/Event-Freight-2.jpg
END:VEVENT
END:VCALENDAR