BEGIN:VCALENDAR
VERSION:2.0
PRODID:-//Center for International Dance - ECPv6.15.20//NONSGML v1.0//EN
CALSCALE:GREGORIAN
METHOD:PUBLISH
X-WR-CALNAME:Center for International Dance
X-ORIGINAL-URL:https://centerforinternationaldance.org
X-WR-CALDESC:Events for Center for International Dance
REFRESH-INTERVAL;VALUE=DURATION:PT1H
X-Robots-Tag:noindex
X-PUBLISHED-TTL:PT1H
BEGIN:VTIMEZONE
TZID:UTC
BEGIN:STANDARD
TZOFFSETFROM:+0000
TZOFFSETTO:+0000
TZNAME:UTC
DTSTART:20220101T000000
END:STANDARD
END:VTIMEZONE
BEGIN:VEVENT
DTSTART;TZID=UTC:20230929T200000
DTEND;TZID=UTC:20230929T223000
DTSTAMP:20260424T090721
CREATED:20240201T125452Z
LAST-MODIFIED:20260401T190337Z
UID:15304-1696017600-1696026600@centerforinternationaldance.org
SUMMARY:Mahea Uchiyama & Halau Ka Ua Tuahine
DESCRIPTION:Ashkenaz Music & Dance\nCommunity Center \n1317 San Pablo Ave.\nBerkeley CA
URL:https://centerforinternationaldance.org/event/mahea-uchiyama-halau-ka-ua-tuahine-ashkenaz/
CATEGORIES:Past
ATTACH;FMTTYPE=image/jpeg:https://centerforinternationaldance.org/wp-content/uploads/2024/02/Event-Ashkenaz-2.jpg
END:VEVENT
END:VCALENDAR