BEGIN:VCALENDAR
VERSION:2.0
PRODID:-//Center for International Dance - ECPv6.15.20//NONSGML v1.0//EN
CALSCALE:GREGORIAN
METHOD:PUBLISH
X-WR-CALNAME:Center for International Dance
X-ORIGINAL-URL:https://centerforinternationaldance.org
X-WR-CALDESC:Events for Center for International Dance
REFRESH-INTERVAL;VALUE=DURATION:PT1H
X-Robots-Tag:noindex
X-PUBLISHED-TTL:PT1H
BEGIN:VTIMEZONE
TZID:America/Los_Angeles
BEGIN:DAYLIGHT
TZOFFSETFROM:-0800
TZOFFSETTO:-0700
TZNAME:PDT
DTSTART:20240310T100000
END:DAYLIGHT
BEGIN:STANDARD
TZOFFSETFROM:-0700
TZOFFSETTO:-0800
TZNAME:PST
DTSTART:20241103T090000
END:STANDARD
BEGIN:DAYLIGHT
TZOFFSETFROM:-0800
TZOFFSETTO:-0700
TZNAME:PDT
DTSTART:20250309T100000
END:DAYLIGHT
BEGIN:STANDARD
TZOFFSETFROM:-0700
TZOFFSETTO:-0800
TZNAME:PST
DTSTART:20251102T090000
END:STANDARD
BEGIN:DAYLIGHT
TZOFFSETFROM:-0800
TZOFFSETTO:-0700
TZNAME:PDT
DTSTART:20260308T100000
END:DAYLIGHT
BEGIN:STANDARD
TZOFFSETFROM:-0700
TZOFFSETTO:-0800
TZNAME:PST
DTSTART:20261101T090000
END:STANDARD
END:VTIMEZONE
BEGIN:VEVENT
DTSTART;TZID=America/Los_Angeles:20251108T193000
DTEND;TZID=America/Los_Angeles:20251108T210000
DTSTAMP:20260423T092059
CREATED:20251018T205136Z
LAST-MODIFIED:20260209T183803Z
UID:22050-1762630200-1762635600@centerforinternationaldance.org
SUMMARY:Mbira Concert
DESCRIPTION:Benefit concert of healing mbira music of Zimbabwe with Samaita Vitalis Botsa and Erica Azim.\n100% of ticket payments go to musicians in Zimbabwe who earned less than $100 in 2025 (Samaita will be paid from MBIRA’s City of Berkeley General Operating Grant – thank you City of Berkeley!).\nAt the Mahea Uchiyama Center for International Dance\, 1800 Dwight Way\, Berkeley\, CA. Sliding scale $10 to $1\,000 (tax-deductible donation).\nDefinitely get tickets for your entire family/friends early\, as this concert is expected to sell out – the last concert of Samaita’s tour\, so your last chance to hear him without traveling to Zimbabwe! \nNOTE: you will not have a physical ticket\, your name and number of tickets purchased will be on the ‘already paid’ list at the door.
URL:https://centerforinternationaldance.org/event/mbira-concert/
LOCATION:Center for International Dance\, 1800 Dwight Way\, Berkeley\, CA\, 94703\, United States
CATEGORIES:Past
ATTACH;FMTTYPE=image/jpeg:https://centerforinternationaldance.org/wp-content/uploads/2025/10/mbira-placeholder-web.jpg
END:VEVENT
END:VCALENDAR