BEGIN:VCALENDAR
VERSION:2.0
PRODID:-//Center for International Dance - ECPv6.15.20//NONSGML v1.0//EN
CALSCALE:GREGORIAN
METHOD:PUBLISH
X-WR-CALNAME:Center for International Dance
X-ORIGINAL-URL:https://centerforinternationaldance.org
X-WR-CALDESC:Events for Center for International Dance
REFRESH-INTERVAL;VALUE=DURATION:PT1H
X-Robots-Tag:noindex
X-PUBLISHED-TTL:PT1H
BEGIN:VTIMEZONE
TZID:America/Los_Angeles
BEGIN:DAYLIGHT
TZOFFSETFROM:-0800
TZOFFSETTO:-0700
TZNAME:PDT
DTSTART:20240310T100000
END:DAYLIGHT
BEGIN:STANDARD
TZOFFSETFROM:-0700
TZOFFSETTO:-0800
TZNAME:PST
DTSTART:20241103T090000
END:STANDARD
BEGIN:DAYLIGHT
TZOFFSETFROM:-0800
TZOFFSETTO:-0700
TZNAME:PDT
DTSTART:20250309T100000
END:DAYLIGHT
BEGIN:STANDARD
TZOFFSETFROM:-0700
TZOFFSETTO:-0800
TZNAME:PST
DTSTART:20251102T090000
END:STANDARD
BEGIN:DAYLIGHT
TZOFFSETFROM:-0800
TZOFFSETTO:-0700
TZNAME:PDT
DTSTART:20260308T100000
END:DAYLIGHT
BEGIN:STANDARD
TZOFFSETFROM:-0700
TZOFFSETTO:-0800
TZNAME:PST
DTSTART:20261101T090000
END:STANDARD
END:VTIMEZONE
BEGIN:VEVENT
DTSTART;TZID=America/Los_Angeles:20251011T140000
DTEND;TZID=America/Los_Angeles:20251011T153000
DTSTAMP:20260423T093141
CREATED:20250910T215126Z
LAST-MODIFIED:20260401T061317Z
UID:21569-1760191200-1760196600@centerforinternationaldance.org
SUMMARY:MOAD Lecture & Demonstration - PŌPOLOHENO: Songs of Resilience & Joy
DESCRIPTION:Join Kumu Māhealani Uchiyama for a presentation where she will share her research on Pōpoloheno – Songs of Resilience & Joy. Pōpoloheno is an unprecedented musical initiative celebrating the often-overlooked contributions of African-descended individuals in post-contact Hawaiian history. This transformative project\, sponsored by the Gerbode Foundation\, and the Kenneth Rainin Foundation\, has resulted in an album of original music released in June 2025 and will culminate with concert performances in San Francisco and on Oʻahu in August\, 2025. \n‍Pōpoloheno highlights the historical bonds between Hawaiian and African cultures\, recognizing shared values\, struggles\, and resilience. This project seeks to challenge misrepresentations\, deepen cultural understanding\, and create a lasting musical tribute to Black history in Hawai’i. \nKumu Māhealani will dive deeply into her research and the creation of the song and hula celebrating Betsey Stockton\, the very first woman of African descent in Hawaiʻi. The event will culminate in a short performance.
URL:https://centerforinternationaldance.org/event/moad-lecture-demonstration-popoloheno-songs-of-resilience-joy-with-mahealani-uchiyama/
CATEGORIES:Lecture,Past
ATTACH;FMTTYPE=image/jpeg:https://centerforinternationaldance.org/wp-content/uploads/2025/07/popoloheno-program-event.jpg
END:VEVENT
END:VCALENDAR