BEGIN:VCALENDAR
VERSION:2.0
PRODID:-//Center for International Dance - ECPv6.15.20//NONSGML v1.0//EN
CALSCALE:GREGORIAN
METHOD:PUBLISH
X-WR-CALNAME:Center for International Dance
X-ORIGINAL-URL:https://centerforinternationaldance.org
X-WR-CALDESC:Events for Center for International Dance
REFRESH-INTERVAL;VALUE=DURATION:PT1H
X-Robots-Tag:noindex
X-PUBLISHED-TTL:PT1H
BEGIN:VTIMEZONE
TZID:UTC
BEGIN:STANDARD
TZOFFSETFROM:+0000
TZOFFSETTO:+0000
TZNAME:UTC
DTSTART:20230101T000000
END:STANDARD
END:VTIMEZONE
BEGIN:VEVENT
DTSTART;TZID=UTC:20240330T133000
DTEND;TZID=UTC:20240330T150000
DTSTAMP:20260423T143512
CREATED:20240201T063033Z
LAST-MODIFIED:20260401T190249Z
UID:15278-1711805400-1711810800@centerforinternationaldance.org
SUMMARY:A Workshop In Nyunga Nyunga Mbira With Salani Wamkanganise
DESCRIPTION:Join renowned mbira musician\, mbira maker and cultural ambassador from Zimbabwe\, Salani Wamkanganise\, for an enriching six-week series on the Nyunga Nyunga Mbira.
URL:https://centerforinternationaldance.org/event/nyunga-nyunga-mbira-workshop-with-salani-wamkanganise-mar-30/
LOCATION:Center for International Dance\, 1800 Dwight Way\, Berkeley\, CA\, 94703\, United States
CATEGORIES:Past
ATTACH;FMTTYPE=image/jpeg:https://centerforinternationaldance.org/wp-content/uploads/2024/01/Events-Mbira-workshop-2.jpg
END:VEVENT
END:VCALENDAR