BEGIN:VCALENDAR
VERSION:2.0
PRODID:-//Center for International Dance - ECPv6.15.20//NONSGML v1.0//EN
CALSCALE:GREGORIAN
METHOD:PUBLISH
X-WR-CALNAME:Center for International Dance
X-ORIGINAL-URL:https://centerforinternationaldance.org
X-WR-CALDESC:Events for Center for International Dance
REFRESH-INTERVAL;VALUE=DURATION:PT1H
X-Robots-Tag:noindex
X-PUBLISHED-TTL:PT1H
BEGIN:VTIMEZONE
TZID:America/Los_Angeles
BEGIN:DAYLIGHT
TZOFFSETFROM:-0800
TZOFFSETTO:-0700
TZNAME:PDT
DTSTART:20240310T100000
END:DAYLIGHT
BEGIN:STANDARD
TZOFFSETFROM:-0700
TZOFFSETTO:-0800
TZNAME:PST
DTSTART:20241103T090000
END:STANDARD
BEGIN:DAYLIGHT
TZOFFSETFROM:-0800
TZOFFSETTO:-0700
TZNAME:PDT
DTSTART:20250309T100000
END:DAYLIGHT
BEGIN:STANDARD
TZOFFSETFROM:-0700
TZOFFSETTO:-0800
TZNAME:PST
DTSTART:20251102T090000
END:STANDARD
BEGIN:DAYLIGHT
TZOFFSETFROM:-0800
TZOFFSETTO:-0700
TZNAME:PDT
DTSTART:20260308T100000
END:DAYLIGHT
BEGIN:STANDARD
TZOFFSETFROM:-0700
TZOFFSETTO:-0800
TZNAME:PST
DTSTART:20261101T090000
END:STANDARD
END:VTIMEZONE
BEGIN:VEVENT
DTSTART;TZID=America/Los_Angeles:20250816T193000
DTEND;TZID=America/Los_Angeles:20250816T220000
DTSTAMP:20260423T110535
CREATED:20250710T215957Z
LAST-MODIFIED:20260401T061340Z
UID:21576-1755372600-1755381600@centerforinternationaldance.org
SUMMARY:Pōpoloheno - Songs of Resilience & Joy Hawaii CONCERT
DESCRIPTION:Music has the ability to draw people together for a common purpose. For Pōpoloheno\, that purpose is to learn more about our shared history and experiences. The more we know about ourselves and understand others\, the better our world will be. 								\n				\n		\n				\n				\n									\n					\n						\n									GET TICKETS\n					\n					\n				\n								\n				\n				\n				\n									\n					\n						\n									LEARN MORE
URL:https://centerforinternationaldance.org/event/popoloheno-songs-of-resilience-joy-hawaii-concert/
CATEGORIES:Featured,Past,Special Events
ATTACH;FMTTYPE=image/jpeg:https://centerforinternationaldance.org/wp-content/uploads/2025/07/popoloheno-program-event.jpg
END:VEVENT
END:VCALENDAR