BEGIN:VCALENDAR
VERSION:2.0
PRODID:-//Center for International Dance - ECPv6.15.20//NONSGML v1.0//EN
CALSCALE:GREGORIAN
METHOD:PUBLISH
X-WR-CALNAME:Center for International Dance
X-ORIGINAL-URL:https://centerforinternationaldance.org
X-WR-CALDESC:Events for Center for International Dance
REFRESH-INTERVAL;VALUE=DURATION:PT1H
X-Robots-Tag:noindex
X-PUBLISHED-TTL:PT1H
BEGIN:VTIMEZONE
TZID:America/Los_Angeles
BEGIN:DAYLIGHT
TZOFFSETFROM:-0800
TZOFFSETTO:-0700
TZNAME:PDT
DTSTART:20230312T100000
END:DAYLIGHT
BEGIN:STANDARD
TZOFFSETFROM:-0700
TZOFFSETTO:-0800
TZNAME:PST
DTSTART:20231105T090000
END:STANDARD
BEGIN:DAYLIGHT
TZOFFSETFROM:-0800
TZOFFSETTO:-0700
TZNAME:PDT
DTSTART:20240310T100000
END:DAYLIGHT
BEGIN:STANDARD
TZOFFSETFROM:-0700
TZOFFSETTO:-0800
TZNAME:PST
DTSTART:20241103T090000
END:STANDARD
BEGIN:DAYLIGHT
TZOFFSETFROM:-0800
TZOFFSETTO:-0700
TZNAME:PDT
DTSTART:20250309T100000
END:DAYLIGHT
BEGIN:STANDARD
TZOFFSETFROM:-0700
TZOFFSETTO:-0800
TZNAME:PST
DTSTART:20251102T090000
END:STANDARD
END:VTIMEZONE
BEGIN:VEVENT
DTSTART;TZID=America/Los_Angeles:20241123T190000
DTEND;TZID=America/Los_Angeles:20241123T210000
DTSTAMP:20260423T093804
CREATED:20241016T215015Z
LAST-MODIFIED:20260401T061353Z
UID:16076-1732388400-1732395600@centerforinternationaldance.org
SUMMARY:Wai Ola in San Francisco
DESCRIPTION:The Mahea Uchiyama Center for International Dance / Hālau Ka Ua Tuahine will present a rare form of hula not widely practiced today. Hula kiʻi features the use of carved or crafted images in the story telling and movements of hula. Due to Western influences in the 19th Century\, the hula kiʻi and other indigenous traditions were suppressed almost out of existence.
URL:https://centerforinternationaldance.org/event/wai-ola-in-san-francisco/
CATEGORIES:Featured,Past
ATTACH;FMTTYPE=image/jpeg:https://centerforinternationaldance.org/wp-content/uploads/2024/10/waiola-event-2.jpg
END:VEVENT
END:VCALENDAR